BEGIN:VCALENDAR
VERSION:2.0
PRODID:spatie/icalendar-generator
DESCRIPTION:Veranstaltungen von Care Palace GmbH
X-WR-CALDESC:Veranstaltungen von Care Palace GmbH
REFRESH-INTERVAL;VALUE=DURATION:PT1440M
X-PUBLISHED-TTL:PT1440M
BEGIN:VTIMEZONE
TZID:Europe/Berlin
BEGIN:STANDARD
DTSTART:20231029T030000Z
TZOFFSETFROM:+0200
TZOFFSETTO:+0100
END:STANDARD
BEGIN:DAYLIGHT
DTSTART:20240331T020000Z
TZOFFSETFROM:+0100
TZOFFSETTO:+0200
END:DAYLIGHT
END:VTIMEZONE
BEGIN:VTIMEZONE
TZID:UTC
BEGIN:STANDARD
DTSTART:20250726T101255Z
TZOFFSETFROM:+0000
TZOFFSETTO:+0000
END:STANDARD
END:VTIMEZONE
BEGIN:VEVENT
UID:420-254
DTSTAMP:20260422T101255Z
SUMMARY:Wunschmusik auf den Wohnetagen
LOCATION:
ORGANIZER;CN=Fabian Gerson:MAILTO:fabiangerson@googlemail.com
DTSTART;TZID=Europe/Berlin:20240210T090000
DTEND;TZID=Europe/Berlin:20240210T110000
X-ALT-DESC;FMTTYPE=TEXT/HTML:
CATEGORIES:General
URL;VALUE=URI:https://www.care-palace.de/mc-events/wunschmusik-auf-den-wohn
 etagen-2/
METHOD:PUBLISH
END:VEVENT
END:VCALENDAR